BEGIN:VCALENDAR
VERSION:2.0
PRODID:-//Auto-Sport-Club (ASC) Breitenfelde e.V. im ADAC - ECPv6.15.18//NONSGML v1.0//EN
CALSCALE:GREGORIAN
METHOD:PUBLISH
X-ORIGINAL-URL:https://asc-breitenfelde.de
X-WR-CALDESC:Veranstaltungen für Auto-Sport-Club (ASC) Breitenfelde e.V. im ADAC
REFRESH-INTERVAL;VALUE=DURATION:PT1H
X-Robots-Tag:noindex
X-PUBLISHED-TTL:PT1H
BEGIN:VTIMEZONE
TZID:Europe/Berlin
BEGIN:DAYLIGHT
TZOFFSETFROM:+0100
TZOFFSETTO:+0200
TZNAME:CEST
DTSTART:20220327T010000
END:DAYLIGHT
BEGIN:STANDARD
TZOFFSETFROM:+0200
TZOFFSETTO:+0100
TZNAME:CET
DTSTART:20221030T010000
END:STANDARD
BEGIN:DAYLIGHT
TZOFFSETFROM:+0100
TZOFFSETTO:+0200
TZNAME:CEST
DTSTART:20230326T010000
END:DAYLIGHT
BEGIN:STANDARD
TZOFFSETFROM:+0200
TZOFFSETTO:+0100
TZNAME:CET
DTSTART:20231029T010000
END:STANDARD
BEGIN:DAYLIGHT
TZOFFSETFROM:+0100
TZOFFSETTO:+0200
TZNAME:CEST
DTSTART:20240331T010000
END:DAYLIGHT
BEGIN:STANDARD
TZOFFSETFROM:+0200
TZOFFSETTO:+0100
TZNAME:CET
DTSTART:20241027T010000
END:STANDARD
END:VTIMEZONE
BEGIN:VEVENT
DTSTART;TZID=Europe/Berlin:20231109T183000
DTEND;TZID=Europe/Berlin:20231109T183000
DTSTAMP:20260422T080737
CREATED:20231108T144736Z
LAST-MODIFIED:20231108T145020Z
UID:250-1699554600-1699554600@asc-breitenfelde.de
SUMMARY:Elternabend ASC Breitenfelde
DESCRIPTION:
URL:https://asc-breitenfelde.de/event/elternabend-asc-breitenfelde/
LOCATION:Elternabend\, Bundesstraße 6\, Breitenfelde\, 23881
CATEGORIES:ASC Intern
END:VEVENT
END:VCALENDAR