BEGIN:VCALENDAR
VERSION:2.0
PRODID:-//Auto-Sport-Club (ASC) Breitenfelde e.V. im ADAC - ECPv6.15.18//NONSGML v1.0//EN
CALSCALE:GREGORIAN
METHOD:PUBLISH
X-ORIGINAL-URL:https://asc-breitenfelde.de
X-WR-CALDESC:Veranstaltungen für Auto-Sport-Club (ASC) Breitenfelde e.V. im ADAC
REFRESH-INTERVAL;VALUE=DURATION:PT1H
X-Robots-Tag:noindex
X-PUBLISHED-TTL:PT1H
BEGIN:VTIMEZONE
TZID:Europe/Berlin
BEGIN:DAYLIGHT
TZOFFSETFROM:+0100
TZOFFSETTO:+0200
TZNAME:CEST
DTSTART:20240331T010000
END:DAYLIGHT
BEGIN:STANDARD
TZOFFSETFROM:+0200
TZOFFSETTO:+0100
TZNAME:CET
DTSTART:20241027T010000
END:STANDARD
BEGIN:DAYLIGHT
TZOFFSETFROM:+0100
TZOFFSETTO:+0200
TZNAME:CEST
DTSTART:20250330T010000
END:DAYLIGHT
BEGIN:STANDARD
TZOFFSETFROM:+0200
TZOFFSETTO:+0100
TZNAME:CET
DTSTART:20251026T010000
END:STANDARD
BEGIN:DAYLIGHT
TZOFFSETFROM:+0100
TZOFFSETTO:+0200
TZNAME:CEST
DTSTART:20260329T010000
END:DAYLIGHT
BEGIN:STANDARD
TZOFFSETFROM:+0200
TZOFFSETTO:+0100
TZNAME:CET
DTSTART:20261025T010000
END:STANDARD
END:VTIMEZONE
BEGIN:VEVENT
DTSTART;TZID=Europe/Berlin:20250615T093000
DTEND;TZID=Europe/Berlin:20250615T170000
DTSTAMP:20260421T022515
CREATED:20250527T125814Z
LAST-MODIFIED:20250527T130743Z
UID:916-1749979800-1750006800@asc-breitenfelde.de
SUMMARY:9. ADAC ASC Kart Slalom des ASC Breitenfelde e.V.
DESCRIPTION:9. ADAC ASC Kart Slalom des ASC Breitenfelde e.V.\nOrt: Fa. Mayer Kanalmanagement\, Röntgenstr. 16a\, 21493 Schwarzenbek\nZeit: Sonntag\, den 15.06.2025\, 09:30 Uhr\nNennungsschluss: Für die Klassen 1-5 jeweils 15 Minuten vor der Startzeit\nSiegerehrung: spätestens nach Ende des Laufs der nächsten Klasse
URL:https://asc-breitenfelde.de/event/9-adac-asc-kart-slalom-des-asc-breitenfelde-e-v/
LOCATION:ASC Breitenfelde e.V\, Röntgenstraße 16\, Schwarzenbek\, Schleswig Holstein\, 21493
CATEGORIES:ASC Intern
ATTACH;FMTTYPE=image/png:https://asc-breitenfelde.de/wp-content/uploads/2023/08/cropped-asc_edit_ss.png
END:VEVENT
END:VCALENDAR