BEGIN:VCALENDAR
VERSION:2.0
PRODID:-//Auto-Sport-Club (ASC) Breitenfelde e.V. im ADAC - ECPv6.15.18//NONSGML v1.0//EN
CALSCALE:GREGORIAN
METHOD:PUBLISH
X-ORIGINAL-URL:https://asc-breitenfelde.de
X-WR-CALDESC:Veranstaltungen für Auto-Sport-Club (ASC) Breitenfelde e.V. im ADAC
REFRESH-INTERVAL;VALUE=DURATION:PT1H
X-Robots-Tag:noindex
X-PUBLISHED-TTL:PT1H
BEGIN:VTIMEZONE
TZID:Europe/Berlin
BEGIN:DAYLIGHT
TZOFFSETFROM:+0100
TZOFFSETTO:+0200
TZNAME:CEST
DTSTART:20240331T010000
END:DAYLIGHT
BEGIN:STANDARD
TZOFFSETFROM:+0200
TZOFFSETTO:+0100
TZNAME:CET
DTSTART:20241027T010000
END:STANDARD
BEGIN:DAYLIGHT
TZOFFSETFROM:+0100
TZOFFSETTO:+0200
TZNAME:CEST
DTSTART:20250330T010000
END:DAYLIGHT
BEGIN:STANDARD
TZOFFSETFROM:+0200
TZOFFSETTO:+0100
TZNAME:CET
DTSTART:20251026T010000
END:STANDARD
BEGIN:DAYLIGHT
TZOFFSETFROM:+0100
TZOFFSETTO:+0200
TZNAME:CEST
DTSTART:20260329T010000
END:DAYLIGHT
BEGIN:STANDARD
TZOFFSETFROM:+0200
TZOFFSETTO:+0100
TZNAME:CET
DTSTART:20261025T010000
END:STANDARD
END:VTIMEZONE
BEGIN:VEVENT
DTSTART;TZID=Europe/Berlin:20250504T080000
DTEND;TZID=Europe/Berlin:20250504T170000
DTSTAMP:20260421T041423
CREATED:20250203T074518Z
LAST-MODIFIED:20250203T080019Z
UID:706-1746345600-1746378000@asc-breitenfelde.de
SUMMARY:ADAC Nordheide JKS
DESCRIPTION:ADAC Nordheide JKS / Sittensen
URL:https://asc-breitenfelde.de/event/adac-nordheide-jks-2/
LOCATION:AC Buchholzer Heidering e.V im ADAC\, An d. Reitbahn 8\, Seevetal\, Niedersachsen\, 21218
CATEGORIES:ASC on Tour
END:VEVENT
END:VCALENDAR