BEGIN:VCALENDAR
VERSION:2.0
PRODID:-//Auto-Sport-Club (ASC) Breitenfelde e.V. im ADAC - ECPv6.15.18//NONSGML v1.0//EN
CALSCALE:GREGORIAN
METHOD:PUBLISH
X-WR-CALNAME:Auto-Sport-Club (ASC) Breitenfelde e.V. im ADAC
X-ORIGINAL-URL:https://asc-breitenfelde.de
X-WR-CALDESC:Veranstaltungen für Auto-Sport-Club (ASC) Breitenfelde e.V. im ADAC
REFRESH-INTERVAL;VALUE=DURATION:PT1H
X-Robots-Tag:noindex
X-PUBLISHED-TTL:PT1H
BEGIN:VTIMEZONE
TZID:Europe/Berlin
BEGIN:DAYLIGHT
TZOFFSETFROM:+0100
TZOFFSETTO:+0200
TZNAME:CEST
DTSTART:20230326T010000
END:DAYLIGHT
BEGIN:STANDARD
TZOFFSETFROM:+0200
TZOFFSETTO:+0100
TZNAME:CET
DTSTART:20231029T010000
END:STANDARD
BEGIN:DAYLIGHT
TZOFFSETFROM:+0100
TZOFFSETTO:+0200
TZNAME:CEST
DTSTART:20240331T010000
END:DAYLIGHT
BEGIN:STANDARD
TZOFFSETFROM:+0200
TZOFFSETTO:+0100
TZNAME:CET
DTSTART:20241027T010000
END:STANDARD
BEGIN:DAYLIGHT
TZOFFSETFROM:+0100
TZOFFSETTO:+0200
TZNAME:CEST
DTSTART:20250330T010000
END:DAYLIGHT
BEGIN:STANDARD
TZOFFSETFROM:+0200
TZOFFSETTO:+0100
TZNAME:CET
DTSTART:20251026T010000
END:STANDARD
END:VTIMEZONE
BEGIN:VEVENT
DTSTART;VALUE=DATE:20240623
DTEND;VALUE=DATE:20240624
DTSTAMP:20260421T224708
CREATED:20240425T095521Z
LAST-MODIFIED:20240619T150046Z
UID:629-1719100800-1719187199@asc-breitenfelde.de
SUMMARY:12. ADAC Travering Jugend-Kart-Slalom des AMC Stormarn e.V.
DESCRIPTION:Hier der Link zur Ausschreibung & Nennung vom ADAC Travering \n12. ADAC Travering Jugend – Kart – Slalom
URL:https://asc-breitenfelde.de/event/12-adac-travering-jugend-kart-slalom-des-amc-stormarn-e-v/
LOCATION:ADAC Verkehrsübungsplatz Travering\, Sehmsdorfer Str. 82\, Bad Oldesloe\, 23843
END:VEVENT
END:VCALENDAR