BEGIN:VCALENDAR
VERSION:2.0
PRODID:-//Auto-Sport-Club (ASC) Breitenfelde e.V. im ADAC - ECPv6.15.18//NONSGML v1.0//EN
CALSCALE:GREGORIAN
METHOD:PUBLISH
X-WR-CALNAME:Auto-Sport-Club (ASC) Breitenfelde e.V. im ADAC
X-ORIGINAL-URL:https://asc-breitenfelde.de
X-WR-CALDESC:Veranstaltungen für Auto-Sport-Club (ASC) Breitenfelde e.V. im ADAC
REFRESH-INTERVAL;VALUE=DURATION:PT1H
X-Robots-Tag:noindex
X-PUBLISHED-TTL:PT1H
BEGIN:VTIMEZONE
TZID:Europe/Berlin
BEGIN:DAYLIGHT
TZOFFSETFROM:+0100
TZOFFSETTO:+0200
TZNAME:CEST
DTSTART:20230326T010000
END:DAYLIGHT
BEGIN:STANDARD
TZOFFSETFROM:+0200
TZOFFSETTO:+0100
TZNAME:CET
DTSTART:20231029T010000
END:STANDARD
BEGIN:DAYLIGHT
TZOFFSETFROM:+0100
TZOFFSETTO:+0200
TZNAME:CEST
DTSTART:20240331T010000
END:DAYLIGHT
BEGIN:STANDARD
TZOFFSETFROM:+0200
TZOFFSETTO:+0100
TZNAME:CET
DTSTART:20241027T010000
END:STANDARD
BEGIN:DAYLIGHT
TZOFFSETFROM:+0100
TZOFFSETTO:+0200
TZNAME:CEST
DTSTART:20250330T010000
END:DAYLIGHT
BEGIN:STANDARD
TZOFFSETFROM:+0200
TZOFFSETTO:+0100
TZNAME:CET
DTSTART:20251026T010000
END:STANDARD
END:VTIMEZONE
BEGIN:VEVENT
DTSTART;VALUE=DATE:20240421
DTEND;VALUE=DATE:20240422
DTSTAMP:20260422T015735
CREATED:20240131T133804Z
LAST-MODIFIED:20240401T120251Z
UID:301-1713657600-1713743999@asc-breitenfelde.de
SUMMARY:ASC-ADAC Kartslalom Pokallauf Schwarzenbek / 04
DESCRIPTION:Kartslalom Pokallauf Schwarzenbek \nDas Nennformular ist hier 4.asc-adac zum downloaden bereitgestellt. \n  \n 
URL:https://asc-breitenfelde.de/event/asc-breitenfelde-04/
LOCATION:ASC Breitenfelde e.V\, Röntgenstraße 16\, Schwarzenbek\, Schleswig Holstein\, 21493
END:VEVENT
END:VCALENDAR